BEGIN:VCALENDAR
VERSION:2.0
PRODID:-//ChamberMaster//Event Calendar 2.0//EN
METHOD:PUBLISH
X-PUBLISHED-TTL:P3D
REFRESH-INTERVAL:P3D
CALSCALE:GREGORIAN
BEGIN:VEVENT
DTSTART:20190612T170000Z
DTEND:20190612T190000Z
X-MICROSOFT-CDO-ALLDAYEVENT:FALSE
SUMMARY:Tinkercad for Tweens: Personalized ID Tags
DESCRIPTION:Tweens\, learn how to use Tinkercard to customize your 3D printing project. In June\, make a tag for your backpack\, best friend tags for you and your BFF\, or a pet tag for your favorite 4-footers. Registration required at granvillelibrary.org/calendar. For rising 4-6th graders.
X-ALT-DESC;FMTTYPE=text/html:Tweens\, learn how to use Tinkercard to customize your 3D printing project. In June\, make a tag for your backpack\, best friend tags for you and your BFF\, or a pet tag for your favorite 4-footers. Registration required at granvillelibrary.org/calendar. For rising 4-6th graders.
LOCATION:Granville Public Library
UID:e.180.12663
SEQUENCE:3
DTSTAMP:20260422T102444Z
URL:http://business.granvilleoh.com/events/details/tinkercad-for-tweens-personalized-id-tags-12663
END:VEVENT

END:VCALENDAR
