BEGIN:VCALENDAR
VERSION:2.0
PRODID:-//ChamberMaster//Event Calendar 2.0//EN
METHOD:PUBLISH
X-PUBLISHED-TTL:P3D
REFRESH-INTERVAL:P3D
CALSCALE:GREGORIAN
BEGIN:VEVENT
DTSTART:20190208T203000Z
DTEND:20190208T213000Z
X-MICROSOFT-CDO-ALLDAYEVENT:FALSE
SUMMARY:Titus-Hepp Lecture Series: Adriel Trott
DESCRIPTION:Denison University's Department of Philosophy and the Titus-Hepp Lecture Series welcomes Adriel Trott from Wabash College presenting "The Matter of Sexual Difference in Aristotle's Biology."\nTrott is an associate professor in philosophy focusing on ancient\, continental and political philosophy. Her work focuses on how ancient philosophy can be a resource both for diagnosing contemporary conceptions of political life\, of being human\, of nature and of gender and for presenting alternatives to these accounts.
X-ALT-DESC;FMTTYPE=text/html:<span style="background-color:transparent\; color:rgb(0\, 0\, 0)\; font-family:arial\; font-size:11pt">Denison University&rsquo\;s Department of Philosophy and the Titus-Hepp Lecture Series welcomes Adriel Trott from Wabash College presenting &ldquo\;The Matter of Sexual Difference in Aristotle&rsquo\;s Biology.&rdquo\;</span>\n<p><span style="background-color:transparent\; color:rgb(0\, 0\, 0)\; font-family:arial\; font-size:11pt">Trott is an associate professor in philosophy focusing on ancient\, continental and political philosophy. Her work focuses on how ancient philosophy can be a resource both for diagnosing contemporary conceptions of political life\, of being human\, of nature and of gender and for presenting alternatives to these accounts.</span></p>\n\n<div>&nbsp\;</div>\n<span style="background-color:transparent\; color:rgb(0\, 0\, 0)\; font-family:arial\; font-size:11pt"> </span>
LOCATION:Denison University Samson Talbot Hall 350 Ridge Road
UID:e.180.12290
SEQUENCE:3
DTSTAMP:20260420T022712Z
URL:http://business.granvilleoh.com/events/details/titus-hepp-lecture-series-adriel-trott-12290
END:VEVENT

END:VCALENDAR
