BEGIN:VCALENDAR
VERSION:2.0
PRODID:-//ChamberMaster//Event Calendar 2.0//EN
METHOD:PUBLISH
X-PUBLISHED-TTL:P3D
REFRESH-INTERVAL:P3D
CALSCALE:GREGORIAN
BEGIN:VEVENT
DTSTART:20190426T083000Z
DTEND:20190426T093000Z
X-MICROSOFT-CDO-ALLDAYEVENT:FALSE
SUMMARY:Titus-Hepp Lecture Series: Andrew Janiak
DESCRIPTION:Denison University's Department of Philosophy and the Titus-Hepp Lecture Series welcome Andrew Janiak\, professor of philosophy at Duke University\, presenting "How Women Were Written Out of the History of Philosophy: The Fascinating Case of Emilie Du Chatelet."\nThis event will be part of the Philosophy Department's celebration of the 30th anniversary of our international journal of undergraduate philosophy\, "Episteme."
X-ALT-DESC;FMTTYPE=text/html:<span style="background-color:transparent\; color:rgb(0\, 0\, 0)\; font-family:arial\; font-size:11pt">Denison University&rsquo\;s Department of Philosophy and the Titus-Hepp Lecture Series welcome Andrew Janiak\, professor of philosophy at Duke University\, presenting &quot\;How Women Were Written Out of the History of Philosophy: The Fascinating Case of Emilie Du Chatelet.&quot\;</span>\n<p><span style="background-color:transparent\; color:rgb(0\, 0\, 0)\; font-family:arial\; font-size:11pt">This event will be part of the Philosophy Department&#39\;s celebration of the 30th anniversary of our international journal of undergraduate philosophy\, &quot\;Episteme.&quot\; </span></p>\n\n<div>&nbsp\;</div>\n
LOCATION:Denison University Room 115 of the Burton D. Morgan Center 150 Ridge Road
UID:e.180.12600
SEQUENCE:3
DTSTAMP:20260420T051010Z
URL:http://business.granvilleoh.com/events/details/titus-hepp-lecture-series-andrew-janiak-12600
END:VEVENT

END:VCALENDAR
