BEGIN:VCALENDAR
VERSION:2.0
PRODID:-//ChamberMaster//Event Calendar 2.0//EN
METHOD:PUBLISH
X-PUBLISHED-TTL:P3D
REFRESH-INTERVAL:P3D
CALSCALE:GREGORIAN
BEGIN:VEVENT
DTSTART:20190109T150000Z
DTEND:20190110T033000Z
X-MICROSOFT-CDO-ALLDAYEVENT:FALSE
SUMMARY:Toddler Time
DESCRIPTION:Songs\, rhymes\, and stories for toddlers. Open hour play sessions February 6\, March 13\, and April 17.
X-ALT-DESC;FMTTYPE=text/html:Songs\, rhymes\, and stories for toddlers. Open hour play sessions February 6\, March 13\, and April 17.
LOCATION:Granville Public Library
UID:e.180.12282
SEQUENCE:3
DTSTAMP:20260420T022719Z
URL:http://business.granvilleoh.com/events/details/toddler-time-01-09-2019-12282
END:VEVENT

END:VCALENDAR
