BEGIN:VCALENDAR
VERSION:2.0
PRODID:-//ChamberMaster//Event Calendar 2.0//EN
METHOD:PUBLISH
X-PUBLISHED-TTL:P3D
REFRESH-INTERVAL:P3D
CALSCALE:GREGORIAN
BEGIN:VEVENT
DTSTART:20190306T150000Z
DTEND:20190306T153000Z
X-MICROSOFT-CDO-ALLDAYEVENT:FALSE
SUMMARY:Toddler Time
DESCRIPTION:Wednesdays through May 8. Songs\, rhymes\, and stories for toddlers. Open hour play sessions March 13 and April 17.
X-ALT-DESC;FMTTYPE=text/html:Wednesdays through May 8. Songs\, rhymes\, and stories for toddlers. Open hour play sessions March 13 and April 17.
LOCATION:Granville Public Library
UID:e.180.12499
SEQUENCE:3
DTSTAMP:20260420T034957Z
URL:http://business.granvilleoh.com/events/details/toddler-time-03-06-2019-12499
END:VEVENT

END:VCALENDAR
