BEGIN:VCALENDAR
VERSION:2.0
PRODID:-//ChamberMaster//Event Calendar 2.0//EN
METHOD:PUBLISH
X-PUBLISHED-TTL:P3D
REFRESH-INTERVAL:P3D
CALSCALE:GREGORIAN
BEGIN:VEVENT
DTSTART:20190605T140000Z
DTEND:20190605T143000Z
X-MICROSOFT-CDO-ALLDAYEVENT:FALSE
SUMMARY:Toddler Time
DESCRIPTION:Songs\, rhymes\, and stories for toddlers ages 18 mos\,-3yrs. Open play session: July 3 Session runs through Wednesday\, July 24.
X-ALT-DESC;FMTTYPE=text/html:Songs\, rhymes\, and stories for toddlers ages 18 mos\,-3yrs. Open play session: July 3 Session runs through Wednesday\, July 24.
LOCATION:Granville Public Library
UID:e.180.12656
SEQUENCE:3
DTSTAMP:20260420T081711Z
URL:http://business.granvilleoh.com/events/details/toddler-time-06-05-2019-12656
END:VEVENT

END:VCALENDAR
