BEGIN:VCALENDAR
VERSION:2.0
PRODID:-//ChamberMaster//Event Calendar 2.0//EN
METHOD:PUBLISH
X-PUBLISHED-TTL:P3D
REFRESH-INTERVAL:P3D
CALSCALE:GREGORIAN
BEGIN:VEVENT
DTSTART:20180725T140000Z
DTEND:20180725T143000Z
X-MICROSOFT-CDO-ALLDAYEVENT:FALSE
SUMMARY:Toddler Time
DESCRIPTION:Songs\, rhymes\, and stories for toddlers. 18 months to 3 years This is the last session for summer!
X-ALT-DESC;FMTTYPE=text/html:Songs\, rhymes\, and stories for toddlers. 18 months to 3 years This is the last session for summer!
LOCATION:Granville Public Library
UID:e.180.12066
SEQUENCE:3
DTSTAMP:20260419T182200Z
URL:http://business.granvilleoh.com/events/details/toddler-time-07-25-2018-12066
END:VEVENT

END:VCALENDAR
