BEGIN:VCALENDAR
VERSION:2.0
PRODID:-//ChamberMaster//Event Calendar 2.0//EN
METHOD:PUBLISH
X-PUBLISHED-TTL:P3D
REFRESH-INTERVAL:P3D
CALSCALE:GREGORIAN
BEGIN:VEVENT
DTSTART:20190413T140000Z
DTEND:20190413T150000Z
X-MICROSOFT-CDO-ALLDAYEVENT:FALSE
SUMMARY:Totes for Tots
DESCRIPTION:Decorate a canvas tote to take home. Ages: 18 months to 5 years Open to first 24 attendees.
X-ALT-DESC;FMTTYPE=text/html:Decorate a canvas tote to take home. Ages: 18 months to 5 years Open to first 24 attendees.
LOCATION:Granville Public Library
UID:e.180.12556
SEQUENCE:3
DTSTAMP:20260420T050631Z
URL:http://business.granvilleoh.com/events/details/totes-for-tots-12556
END:VEVENT

END:VCALENDAR
