BEGIN:VCALENDAR
VERSION:2.0
PRODID:-//ChamberMaster//Event Calendar 2.0//EN
METHOD:PUBLISH
X-PUBLISHED-TTL:P3D
REFRESH-INTERVAL:P3D
CALSCALE:GREGORIAN
BEGIN:VEVENT
DTSTART:20190806T160000Z
DTEND:20190806T170000Z
X-MICROSOFT-CDO-ALLDAYEVENT:FALSE
SUMMARY:Train Show Volunteer Meeting
DESCRIPTION:Interested in helping with our train show? We need you! Join us to learn about how you can get involved to assist with our show in November and December. Please RSVP to Wendy at wbittel@granvillelibrary.org
X-ALT-DESC;FMTTYPE=text/html:Interested in helping with our train show? We need you! Join us to learn about how you can get involved to assist with our show in November and December. Please RSVP to Wendy at wbittel@granvillelibrary.org
LOCATION:Granville Public Library\, Community Room
UID:e.180.12736
SEQUENCE:3
DTSTAMP:20260422T102721Z
URL:http://business.granvilleoh.com/events/details/train-show-volunteer-meeting-12736
END:VEVENT

END:VCALENDAR
