BEGIN:VCALENDAR
VERSION:2.0
PRODID:-//ChamberMaster//Event Calendar 2.0//EN
METHOD:PUBLISH
X-PUBLISHED-TTL:P3D
REFRESH-INTERVAL:P3D
CALSCALE:GREGORIAN
BEGIN:VEVENT
DTSTART:20190313T203000Z
DTEND:20190313T213000Z
X-MICROSOFT-CDO-ALLDAYEVENT:FALSE
SUMMARY:‘Transitions to the World of Work’ by Mark Clark
DESCRIPTION:Denison University's Center for Narrative Journalism welcomes Mark Clark presenting "Transitions to the World of Work."\n\n\n\nClark is a long time faculty member of the The Philadelphia Center and speaks to the benefits of a liberal arts education and beyond\, as well as gives career advice to students. Event is co-sponsored by Narrative Journalism\, English\, Queer Studies and Knowlton Center for Career Exploration.
X-ALT-DESC;FMTTYPE=text/html:<span style="background-color:transparent\; color:rgb(0\, 0\, 0)\; font-family:arial\; font-size:11pt">Denison University&rsquo\;s Center for Narrative Journalism welcomes Mark Clark presenting &ldquo\;Transitions to the World of Work.&rdquo\;<br />\n<br />\nClark is a long time faculty member of the The Philadelphia Center and speaks to the benefits of a liberal arts education and beyond\, as well as gives career advice to students. Event is co-sponsored by Narrative Journalism\, English\, Queer Studies and Knowlton Center for Career Exploration.</span>
LOCATION:Denison University Boardroom of Barney-Davis Hall 200 West Loop
UID:e.180.12444
SEQUENCE:3
DTSTAMP:20260420T035156Z
URL:http://business.granvilleoh.com/events/details/transitions-to-the-world-of-work-by-mark-clark-12444
END:VEVENT

END:VCALENDAR
