BEGIN:VCALENDAR
VERSION:2.0
PRODID:-//ChamberMaster//Event Calendar 2.0//EN
METHOD:PUBLISH
X-PUBLISHED-TTL:P3D
REFRESH-INTERVAL:P3D
CALSCALE:GREGORIAN
BEGIN:VEVENT
DTSTART:20191217T190000Z
DTEND:20191217T230000Z
X-MICROSOFT-CDO-ALLDAYEVENT:FALSE
SUMMARY:Tuesday Tech Drop In
DESCRIPTION:Get one-on-one help with your technology questions! Register for a one hour session at granvillelibrary.org/calendar.
X-ALT-DESC;FMTTYPE=text/html:Get one-on-one help with your technology questions! Register for a one hour session at granvillelibrary.org/calendar.
LOCATION:Granville Public Library
UID:e.180.13986
SEQUENCE:3
DTSTAMP:20260422T160640Z
URL:http://business.granvilleoh.com/events/details/tuesday-tech-drop-in-12-17-2019-13986
END:VEVENT

END:VCALENDAR
