BEGIN:VCALENDAR
VERSION:2.0
PRODID:-//ChamberMaster//Event Calendar 2.0//EN
METHOD:PUBLISH
X-PUBLISHED-TTL:P3D
REFRESH-INTERVAL:P3D
CALSCALE:GREGORIAN
BEGIN:VEVENT
DTSTART:20180502T223000Z
DTEND:20180502T233000Z
X-MICROSOFT-CDO-ALLDAYEVENT:FALSE
SUMMARY:TYSO: Bingo for Books
DESCRIPTION:Part of Turn Your Screen Off Week. Play BINGO for new books. All ages welcome! Children under 10 must be accompanied by an adult.
X-ALT-DESC;FMTTYPE=text/html:Part of Turn Your Screen Off Week. Play BINGO for new books. All ages welcome! Children under 10 must be accompanied by an adult.
LOCATION:Granville Public Library
UID:e.180.11866
SEQUENCE:3
DTSTAMP:20260421T094847Z
URL:http://business.granvilleoh.com/events/details/tyso-bingo-for-books-11866
END:VEVENT

END:VCALENDAR
