BEGIN:VCALENDAR
VERSION:2.0
PRODID:-//ChamberMaster//Event Calendar 2.0//EN
METHOD:PUBLISH
X-PUBLISHED-TTL:P3D
REFRESH-INTERVAL:P3D
CALSCALE:GREGORIAN
BEGIN:VEVENT
DTSTART:20180501T223000Z
DTEND:20180502T000000Z
X-MICROSOFT-CDO-ALLDAYEVENT:FALSE
SUMMARY:TYSO: Discover What's In Your Backyard
DESCRIPTION:Kids and adults alike\, will have the opportunity to learn about and connect with nature as they explore the plants that grow wild in your own backyard while learning how to use them for cuts\, bites\, stings and more. Sponsored by Federated Clubs of Granville. Part of Turn Your Screen Off Week
X-ALT-DESC;FMTTYPE=text/html:Kids and adults alike\, will have the opportunity to learn about and connect with nature as they explore the plants that grow wild in your own backyard while learning how to use them for cuts\, bites\, stings and more. Sponsored by Federated Clubs of Granville. Part of Turn Your Screen Off Week
LOCATION:College Town House
UID:e.180.11872
SEQUENCE:3
DTSTAMP:20260421T100626Z
URL:http://business.granvilleoh.com/events/details/tyso-discover-what-s-in-your-backyard-11872
END:VEVENT

END:VCALENDAR
