BEGIN:VCALENDAR
VERSION:2.0
PRODID:-//ChamberMaster//Event Calendar 2.0//EN
METHOD:PUBLISH
X-PUBLISHED-TTL:P3D
REFRESH-INTERVAL:P3D
CALSCALE:GREGORIAN
BEGIN:VEVENT
DTSTART:20180505T140000Z
DTEND:20180505T160000Z
X-MICROSOFT-CDO-ALLDAYEVENT:FALSE
SUMMARY:TYSO: Free Comic Book Day
DESCRIPTION:Pick up your free comic book from Comic Shop Plus. Limit two comics per person. All ages! Poor weather\, find us inside. Part of Turn Your Screen Off Week.
X-ALT-DESC;FMTTYPE=text/html:Pick up your free comic book from Comic Shop Plus. Limit two comics per person. All ages! Poor weather\, find us inside. Part of Turn Your Screen Off Week.
LOCATION:Granville Public Library
UID:e.180.11867
SEQUENCE:3
DTSTAMP:20260421T100502Z
URL:http://business.granvilleoh.com/events/details/tyso-free-comic-book-day-11867
END:VEVENT

END:VCALENDAR
