BEGIN:VCALENDAR
VERSION:2.0
PRODID:-//ChamberMaster//Event Calendar 2.0//EN
METHOD:PUBLISH
X-PUBLISHED-TTL:P3D
REFRESH-INTERVAL:P3D
CALSCALE:GREGORIAN
BEGIN:VEVENT
DTSTART:20180501T230000Z
DTEND:20180502T010000Z
X-MICROSOFT-CDO-ALLDAYEVENT:FALSE
SUMMARY:TYSO: Life/Local Series: Family Big Game Night
DESCRIPTION:Turn off those gaming screens and join us for real BIG games or big REAL games\, either way family night is about being together and having some fun! Sponsored by Bryn Du Commission Part of Turn Your Screen Off Week!
X-ALT-DESC;FMTTYPE=text/html:Turn off those gaming screens and join us for real BIG games or big REAL games\, either way family night is about being together and having some fun! Sponsored by Bryn Du Commission Part of Turn Your Screen Off Week!
LOCATION:Bryn Du Mansion
UID:e.180.11873
SEQUENCE:3
DTSTAMP:20260421T100931Z
URL:http://business.granvilleoh.com/events/details/tyso-life-local-series-family-big-game-night-11873
END:VEVENT

END:VCALENDAR
