BEGIN:VCALENDAR
VERSION:2.0
PRODID:-//ChamberMaster//Event Calendar 2.0//EN
METHOD:PUBLISH
X-PUBLISHED-TTL:P3D
REFRESH-INTERVAL:P3D
CALSCALE:GREGORIAN
BEGIN:VEVENT
DTSTART:20180502T160000Z
DTEND:20180502T170000Z
X-MICROSOFT-CDO-ALLDAYEVENT:FALSE
SUMMARY:TYSO: Soup & Banana Splits
DESCRIPTION:Enjoy a selection of delicious soups and a fudge sundae treat for guests ages 60 and above. Sponsored by the Granville Senior Center. Part of Turn Your Screen Off Week.
X-ALT-DESC;FMTTYPE=text/html:Enjoy a selection of delicious soups and a fudge sundae treat for guests ages 60 and above. Sponsored by the Granville Senior Center. Part of Turn Your Screen Off Week.
LOCATION:Granville Senior Center
UID:e.180.11874
SEQUENCE:3
DTSTAMP:20260421T103322Z
URL:http://business.granvilleoh.com/events/details/tyso-soup-banana-splits-11874
END:VEVENT

END:VCALENDAR
