BEGIN:VCALENDAR
VERSION:2.0
PRODID:-//ChamberMaster//Event Calendar 2.0//EN
METHOD:PUBLISH
X-PUBLISHED-TTL:P3D
REFRESH-INTERVAL:P3D
CALSCALE:GREGORIAN
BEGIN:VEVENT
DTSTART:20180913T210000Z
DTEND:20180913T230000Z
X-MICROSOFT-CDO-ALLDAYEVENT:FALSE
SUMMARY:United Way Women United
DESCRIPTION:Join us for an informal evening celebrating the power of women to inspire\, engage and strengthen our community.  Guest speaker Joan Franks will discuss successfully juggling family\, career\, and volunteering. \n\n\n\nRSVP by September 7 to Luellen Deeds (740) 349-7502 or at unitedwaylc.org
X-ALT-DESC;FMTTYPE=text/html:Join us for an informal evening celebrating the power of women to inspire\, engage and strengthen our community.&nbsp\; Guest speaker Joan Franks will discuss successfully juggling family\, career\, and volunteering.&nbsp\;<br />\n<br />\nRSVP by September 7 to Luellen Deeds (740) 349-7502 or at unitedwaylc.org
LOCATION:Trout Club Pavillion 2250 Horns Hill Rd. NE Newark\, Ohio 43055
UID:e.180.12111
SEQUENCE:3
DTSTAMP:20260419T193702Z
URL:http://business.granvilleoh.com/events/details/united-way-women-united-12111
END:VEVENT

END:VCALENDAR
