BEGIN:VCALENDAR
VERSION:2.0
PRODID:-//ChamberMaster//Event Calendar 2.0//EN
METHOD:PUBLISH
X-PUBLISHED-TTL:P3D
REFRESH-INTERVAL:P3D
CALSCALE:GREGORIAN
BEGIN:VEVENT
DTSTART:20190606T230000Z
DTEND:20190607T003000Z
X-MICROSOFT-CDO-ALLDAYEVENT:FALSE
SUMMARY:Universal Kindness: Giving Plates
DESCRIPTION:Design a "giving plate" to pass on. Lindsay Salisbury\, of Just WRITE Fine Paper and Stationery\, will be on hand to teach 3-4 styles of hand lettering to make this an out-of-this-world project. Fill it with a treat\, and send it off to make someone else's day a little brighter or help a friend in need. Lindsay discovered a talent and love for hand lettering when her boss at Just WRITE Fine Paper and Stationery asked her to start making signs for the store. From there\, things took off! She is excited to share her passion with those interested in learning how to do this as well! Register at granvillelibrary.com/calendar
X-ALT-DESC;FMTTYPE=text/html:Design a &quot\;giving plate&quot\; to pass on. Lindsay Salisbury\, of Just WRITE Fine Paper and Stationery\, will be on hand to teach 3-4 styles of hand lettering to make this an out-of-this-world project. Fill it with a treat\, and send it off to make someone else&#39\;s day a little brighter or help a friend in need. Lindsay discovered a talent and love for hand lettering when her boss at Just WRITE Fine Paper and Stationery asked her to start making signs for the store. From there\, things took off! She is excited to share her passion with those interested in learning how to do this as well! Register at granvillelibrary.com/calendar
LOCATION:Granville Public Library
UID:e.180.12658
SEQUENCE:3
DTSTAMP:20260420T081644Z
URL:http://business.granvilleoh.com/events/details/universal-kindness-giving-plates-12658
END:VEVENT

END:VCALENDAR
