BEGIN:VCALENDAR
VERSION:2.0
PRODID:-//ChamberMaster//Event Calendar 2.0//EN
METHOD:PUBLISH
X-PUBLISHED-TTL:P3D
REFRESH-INTERVAL:P3D
CALSCALE:GREGORIAN
BEGIN:VEVENT
DTSTART:20191114T000000Z
DTEND:20191114T013000Z
X-MICROSOFT-CDO-ALLDAYEVENT:FALSE
SUMMARY:'Untangling the knot: genetics\, ancestry\, identity\, and race' by Jennifer Raff
DESCRIPTION:Denison University welcomes Assistant Professor of Anthropology and Genetics from the University of Kansas Jennifer Raff\, presenting a talk\, "Untangling the knot: genetics\, ancestry\, identity\, and race."\nRaff will discuss the history of scientific racism in the disciplines of biology and anthropology\, how the majority of biological anthropologists interpret human patterns of variation today\, and offer some suggestions to both the scientific community and general public for reframing the ways in which we explore race\, genetics\, and identity.\n\nThis event is sponsored by the Race and Genetics: Histories\, Legacies\, Continuities Academic Research Table and the Department of Biology. Funding provided by the Lisska Center and the Ronneberg Fund.
X-ALT-DESC;FMTTYPE=text/html:<span style="background-color:transparent\; color:rgb(0\, 0\, 0)\; font-family:arial\; font-size:11pt">Denison University welcomes Assistant Professor of Anthropology and Genetics from the University of Kansas Jennifer Raff\, presenting a talk\, &quot\;Untangling the knot: genetics\, ancestry\, identity\, and race.&quot\;</span>\n<p><span style="background-color:transparent\; color:rgb(0\, 0\, 0)\; font-family:arial\; font-size:11pt">Raff will discuss the history of scientific racism in the disciplines of biology and anthropology\, how the majority of biological anthropologists interpret human patterns of variation today\, and offer some suggestions to both the scientific community and general public for reframing the ways in which we explore race\, genetics\, and identity.</span></p>\n\n<p><span style="color:rgb(0\, 0\, 0)\; font-family:arial\; font-size:11pt">This event is sponsored by the Race and Genetics: Histories\, Legacies\, Continuities Academic Research Table and the Department of Biology. Funding provided by the Lisska Center and the Ronneberg Fund.</span></p>\n\n<div>&nbsp\;</div>\n
LOCATION:Denison University Room 105 of Higley Hall 100 Ridge Road
UID:e.180.13956
SEQUENCE:3
DTSTAMP:20260422T144457Z
URL:http://business.granvilleoh.com/events/details/untangling-the-knot-genetics-ancestry-identity-and-race-by-jennifer-raff-13956
END:VEVENT

END:VCALENDAR
