BEGIN:VCALENDAR
VERSION:2.0
PRODID:-//ChamberMaster//Event Calendar 2.0//EN
METHOD:PUBLISH
X-PUBLISHED-TTL:P3D
REFRESH-INTERVAL:P3D
CALSCALE:GREGORIAN
BEGIN:VEVENT
DTSTART:20190305T150000Z
DTEND:20190305T160000Z
X-MICROSOFT-CDO-ALLDAYEVENT:FALSE
SUMMARY:Vail Guest: Joseph Hancock
DESCRIPTION:Denison University's Art History Department and Visual Culture Program welcomes Vail visiting artist Professor of Design from Drexel University\, Joseph Hancock II\, presenting "Cargo Pants: The Transnational Rise of the Garment that Started A Fashion War."\n\n \nHancock has a 20-year background in retail operations\, branding\, merchandising\, consumer behavior and strategy. He has worked for such companies as The Gap Inc.\, The Limited Corporation and Target Corporation. Hancock has published internationally and is a well-known authority in the area of fashion branding\, retailing and merchandising as a form of storytelling.
X-ALT-DESC;FMTTYPE=text/html:<span style="background-color:transparent\; color:rgb(0\, 0\, 0)\; font-family:arial\; font-size:11pt">Denison University&rsquo\;s Art History Department and Visual Culture Program welcomes Vail visiting artist Professor of Design from Drexel University\, Joseph</span><strong> </strong><span style="background-color:transparent\; color:rgb(0\, 0\, 0)\; font-family:arial\; font-size:11pt">Hancock II\, presenting &ldquo\;Cargo Pants: The Transnational Rise of the Garment that Started A Fashion War.</span><em>&quot\;</em><br />\n&nbsp\;\n<p><span style="background-color:transparent\; color:rgb(0\, 0\, 0)\; font-family:arial\; font-size:11pt">Hancock has a 20-year background in retail operations\, branding\, merchandising\, consumer behavior and strategy. He has worked for such companies as The Gap Inc.\, The Limited Corporation and Target Corporation. Hancock has published internationally and is a well-known authority in the area of fashion branding\, retailing and merchandising as a form of storytelling.</span></p>\n\n<div>&nbsp\;</div>\n
LOCATION:Denison University Bryant Arts Center\, Room 301 210 West College Street
UID:e.180.12477
SEQUENCE:3
DTSTAMP:20260420T034904Z
URL:http://business.granvilleoh.com/events/details/vail-guest-joseph-hancock-12477
END:VEVENT

END:VCALENDAR
