BEGIN:VCALENDAR
VERSION:2.0
PRODID:-//ChamberMaster//Event Calendar 2.0//EN
METHOD:PUBLISH
X-PUBLISHED-TTL:P3D
REFRESH-INTERVAL:P3D
CALSCALE:GREGORIAN
BEGIN:VEVENT
DTSTART:20190227T000000Z
DTEND:20190227T010000Z
X-MICROSOFT-CDO-ALLDAYEVENT:FALSE
SUMMARY:Vail Series Presents 100 Years of Leonard Bernstein
DESCRIPTION:The Vail Series Presents 100 Years of Leonard Bernstein-The Czech National Symphony Orchestra under the direction of John Mauceri and featuring guest soloist Isabel Leonard\, will celebrate the legacy of Leonard Bernstein.\nMauceri\, a mentee and conducting fellow with Bernstein and the conductor of the world premiere of Bernstein's "A Quiet Place\," and Leonard\, critically acclaimed for her performances of Bernstein repertoire\, join CNSO in a glorious marking of the world-renowned American composer\, conductor\, and pianist's 100th birthday celebration.\n\nHighly acclaimed for her "passionate intensity and remarkable vocal beauty\," the multiple Grammy Award-winning Leonard continues to thrill audiences both in the opera house and on the concert stage. Leonard is in constant demand as a recitalist and is on the Board of Trustees at Carnegie Hall. She is a multiple Grammy Award winner\, most recently for Ravel's "L'Enfant et les sortileges" with Seiji Ozawa on Decca and "The Tempest" from the Metropolitan Opera on Deutsche Grammophon\, both Best Opera Recording.\n\nThe Czech National Symphony Orchestra will be conducted by Mauceri. For 18 years\, Mauceri worked closely with Bernstein and conducted many of the composer's premieres at Bernstein's request. Mauceri was the first music director of American Symphony Orchestra in Carnegie Hall following its legendary founding director\, Leopold Stokowski\, with whom he studied.\n\n\nA limited number of tickets will be available to the general public for $15. Tickets are available beginning Feb. 11. Information at Denison.edu/series/vail. use vailseries.org
X-ALT-DESC;FMTTYPE=text/html:<span style="background-color:transparent\; color:rgb(0\, 0\, 0)\; font-family:arial\; font-size:11pt">The Vail Series Presents 100 Years of Leonard Bernstein-The Czech National Symphony Orchestra under the direction of John Mauceri and featuring guest soloist Isabel Leonard\, will celebrate the legacy of Leonard Bernstein.</span>\n<p><span style="background-color:transparent\; color:rgb(0\, 0\, 0)\; font-family:arial\; font-size:11pt">Mauceri\, a mentee and conducting fellow with Bernstein and the conductor of the world premiere of Bernstein&rsquo\;s &ldquo\;A Quiet Place\,&rdquo\; and Leonard\, critically acclaimed for her performances of Bernstein repertoire\, join CNSO in a glorious marking of the world-renowned American composer\, conductor\, and pianist&rsquo\;s 100th birthday celebration.</span></p>\n\n<p><span style="color:rgb(0\, 0\, 0)\; font-family:arial\; font-size:11pt">Highly acclaimed for her &ldquo\;passionate intensity and remarkable vocal beauty\,&rdquo\; the multiple Grammy Award-winning Leonard continues to thrill audiences both in the opera house and on the concert stage. Leonard is in constant demand as a recitalist and is on the Board of Trustees at Carnegie Hall. She is a multiple Grammy Award winner\, most recently for Ravel&rsquo\;s &quot\;L&rsquo\;Enfant et les sortileges&quot\; with Seiji Ozawa on Decca and &quot\;The Tempest&quot\; from the Metropolitan Opera on Deutsche Grammophon\, both Best Opera Recording.</span></p>\n\n<p><span style="color:rgb(0\, 0\, 0)\; font-family:arial\; font-size:11pt">The Czech National Symphony Orchestra will be conducted by Mauceri. For 18 years\, Mauceri worked closely with Bernstein and conducted many of the composer&rsquo\;s premieres at Bernstein&rsquo\;s request. Mauceri was the first music director of American Symphony Orchestra in Carnegie Hall following its legendary founding director\, Leopold Stokowski\, with whom he studied.</span></p>\n\n<div>\n<p><span style="background-color:transparent\; color:rgb(0\, 0\, 0)\; font-family:arial\; font-size:11pt">A limited number of tickets will be available to the general public for $15. Tickets are available beginning Feb. 11. Information at Denison.edu/series/vail. </span><span style="color:rgb(255\, 0\, 0)\; font-family:arial\; font-size:11pt">use</span><a href="http://vailseries.org/" style="text-decoration-line: none\;"><span style="color:rgb(255\, 0\, 0)\; font-family:arial\; font-size:11pt"> </span><span style="color:rgb(17\, 85\, 204)\; font-family:arial\; font-size:11pt">vailseries.org</span></a><span style="color:rgb(255\, 0\, 0)\; font-family:arial\; font-size:11pt"> </span></p>\n\n<div>&nbsp\;</div>\n</div>\n
LOCATION:Denison University Swasey Chapel 200 Chapel Drive
UID:e.180.12409
SEQUENCE:3
DTSTAMP:20260420T022908Z
URL:http://business.granvilleoh.com/events/details/vail-series-presents-100-years-of-leonard-bernstein-12409
END:VEVENT

END:VCALENDAR
