BEGIN:VCALENDAR
VERSION:2.0
PRODID:-//ChamberMaster//Event Calendar 2.0//EN
METHOD:PUBLISH
X-PUBLISHED-TTL:P3D
REFRESH-INTERVAL:P3D
CALSCALE:GREGORIAN
BEGIN:VEVENT
DTSTART:20191003T230000Z
DTEND:20191004T003000Z
X-MICROSOFT-CDO-ALLDAYEVENT:FALSE
SUMMARY:Vail Series Presents: Bela Fleck\, Edgar Meyer and Zakir Hussain with Rakesh Chaurasia
DESCRIPTION:Denison University's acclaimed Vail Series presents its 2019-20 season celebrating our 40th Anniversary welcoming Bela Fleck\, Edgar Meyer and Zakir Hussain with Rakesh Chaurasia. \n\n?NPR stated they are "Simply the best at what they do .they're world-class masters of the banjo\, the bass fiddle and the tabla (who) conquered mere technical prowess long ago." There's a bit of the sorcerer in Fleck (banjo)\, Hussain (tabla)\, Meyer (double bass)\, and their special guest Chaurasia (bansuri-Indian flute). Most musicians hope at most for proficiency in their chosen form\, but these gentlemen move from bluegrass to Western classical to Indian classical to jazz\, transmuting genres into something uniquely their own as though they'd gotten hold of the alchemist's tools that legendarily changed lead into gold. In any case\, it's music that transcends description\, ineffable\, indefinable\, and very beautiful.\n\n?Tickets are free for Denison faculty/staff/students and on sale to the general public for $15 as available. Online ticketing for concerts through Vailseries.org. Tickets available online Sept. 23.
X-ALT-DESC;FMTTYPE=text/html:<p><span style="color:rgb(0\, 0\, 0)\; font-family:arial\; font-size:11pt">Denison University&rsquo\;s acclaimed Vail Series presents its 2019-20 season&nbsp\;</span><span style="color:rgb(34\, 34\, 34)\; font-family:arial\; font-size:11pt">celebrating our 40</span><span style="color:rgb(34\, 34\, 34)\; font-family:arial\; font-size:11pt"><span style="font-size:0.6em">th</span></span><span style="color:rgb(34\, 34\, 34)\; font-family:arial\; font-size:11pt">&nbsp\;Anniversary welcoming&nbsp\;</span><span style="color:rgb(34\, 34\, 34)\; font-size:14.6667px">Bela Fleck\, Edgar Meyer and Zakir Hussain with Rakesh Chaurasia</span><span style="color:rgb(0\, 0\, 0)\; font-family:arial\; font-size:11pt">.&nbsp\;</span></p>\n\n<p><span style="color:rgb(0\, 0\, 0)\; font-family:arial\; font-size:11pt">?</span><span style="font-size:11pt">NPR stated they are &ldquo\;Simply the best at what they do&hellip\;.they&rsquo\;re world-class masters of the banjo\, the bass fiddle and the tabla (who) conquered mere technical prowess long ago.&rdquo\; There&rsquo\;s a bit of the sorcerer in Fleck (banjo)\, Hussain (tabla)\, Meyer (double bass)\, and their special guest Chaurasia (bansuri-Indian flute). Most musicians hope at most for proficiency in their chosen form\, but these gentlemen move from bluegrass to Western classical to Indian classical to jazz\, transmuting genres into something uniquely their own as though they&rsquo\;d gotten hold of the alchemist&rsquo\;s tools that legendarily changed lead into gold. In any case\, it&rsquo\;s music that transcends description\, ineffable\, indefinable\, and very beautiful.</span></p>\n\n<p><span style="background-color:transparent\; font-family:arial\; font-size:11pt">?</span><span style="background-color:transparent\; font-family:arial\; font-size:11pt">Tickets are free for Denison faculty/staff/students and on sale to the general public for $15 as available. Online ticketing for concerts through Vailseries.org. Tickets available online Sept. 23.</span></p>\n\n<div>&nbsp\;</div>\n
LOCATION:Denison University Swasey Chapel 200 Chapel Drive
UID:e.180.12811
SEQUENCE:3
DTSTAMP:20260422T131647Z
URL:http://business.granvilleoh.com/events/details/vail-series-presents-bela-fleck-edgar-meyer-and-zakir-hussain-with-rakesh-chaurasia-12811
END:VEVENT

END:VCALENDAR
