BEGIN:VCALENDAR
VERSION:2.0
PRODID:-//ChamberMaster//Event Calendar 2.0//EN
METHOD:PUBLISH
X-PUBLISHED-TTL:P3D
REFRESH-INTERVAL:P3D
CALSCALE:GREGORIAN
BEGIN:VEVENT
DTSTART:20180921T230000Z
DTEND:20180922T003000Z
X-MICROSOFT-CDO-ALLDAYEVENT:FALSE
SUMMARY:Vail Series presents Pablo Ziegler ‘12 Hours - Argentina Meets Japan’
DESCRIPTION:Denison Univeristy's Vail Series welcomes Pablo Ziegler for his U.S. premier performance\, "12 Hours- Argentina Meets Japan."\n\n \nZiegler's "12 Hours" is named for the time difference between the port cities of Buenos Aires and Yokohama. "12 Hours" explores a marriage of Argentine nuevo tango with Japanese traditional music\, while celebrating the long legacy of the tango in Japan.
X-ALT-DESC;FMTTYPE=text/html:<span style="background-color:transparent\; color:rgb(0\, 0\, 0)\; font-family:times new roman\; font-size:12pt">Denison Univeristy&#39\;s Vail Series welcomes Pablo Ziegler for his U.S. premier performance\, &ldquo\;12 Hours- Argentina Meets Japan.&rdquo\;</span><br />\n&nbsp\;\n<p><span style="color:rgb(0\, 0\, 0)\; font-family:times new roman\; font-size:12pt">Ziegler&rsquo\;s &ldquo\;12 Hours&rdquo\; is named for the time difference between the port cities of Buenos Aires and Yokohama. &ldquo\;12 Hours&rdquo\; explores a marriage of Argentine nuevo tango with Japanese traditional music\, while celebrating the long legacy of the tango in Japan.</span></p>\n\n<div>&nbsp\;</div>\n
LOCATION:Denison University Swasey Chapel 200 Chapel Drive
UID:e.180.12127
SEQUENCE:3
DTSTAMP:20260419T193723Z
URL:http://business.granvilleoh.com/events/details/vail-series-presents-pablo-ziegler-12-hours-argentina-meets-japan-12127
END:VEVENT

END:VCALENDAR
