BEGIN:VCALENDAR
VERSION:2.0
PRODID:-//ChamberMaster//Event Calendar 2.0//EN
METHOD:PUBLISH
X-PUBLISHED-TTL:P3D
REFRESH-INTERVAL:P3D
CALSCALE:GREGORIAN
BEGIN:VEVENT
DTSTART:20180728T160000Z
DTEND:20180728T180000Z
X-MICROSOFT-CDO-ALLDAYEVENT:FALSE
SUMMARY:VIR Celebration Carnival
DESCRIPTION:Celebrate your completion of the Children's summer reading program with games and pizza. Turn in your final raffle tickets by 1pm. Children's summer raffle prizes will be announced at 1:30pm. All Children's Summer Program participants.
X-ALT-DESC;FMTTYPE=text/html:Celebrate your completion of the Children&#39\;s summer reading program with games and pizza. Turn in your final raffle tickets by 1pm. Children&#39\;s summer raffle prizes will be announced at 1:30pm. All Children&#39\;s Summer Program participants.
LOCATION:Granville Public Library
UID:e.180.12075
SEQUENCE:3
DTSTAMP:20260419T165923Z
URL:http://business.granvilleoh.com/events/details/vir-celebration-carnival-12075
END:VEVENT

END:VCALENDAR
