BEGIN:VCALENDAR
VERSION:2.0
PRODID:-//ChamberMaster//Event Calendar 2.0//EN
METHOD:PUBLISH
X-PUBLISHED-TTL:P3D
REFRESH-INTERVAL:P3D
CALSCALE:GREGORIAN
BEGIN:VEVENT
DTSTART:20190829T210000Z
DTEND:20190829T223000Z
X-MICROSOFT-CDO-ALLDAYEVENT:FALSE
SUMMARY:Virtual Dementia Tour
DESCRIPTION:The Virtual Dementia Tour uses patented sensory tools that alter the senses of participants while they try to complete common everyday tasks and exercises.\n\nThis unique\, interactive class will enable you to better understand the realities of living with dementia. By taking a walk in their shoes you will be better equipped to communicate and care for your loved one.\n\n\n\nAdmission is free\, but space is limited so RSVPs are required.\n\n\n\nRSVP to Cathy at 740-321-3330 or cathy.creekmore@homeinstead.com
X-ALT-DESC;FMTTYPE=text/html:<span style="color:rgb(29\, 33\, 41)\; font-family:system-ui\,-apple-system\,system-ui\,.sfnstext-regular\,sans-serif\; font-size:14px">The Virtual Dementia Tour uses patented sensory tools that alter the senses of participants while they try to complete common everyday tasks and exercises.</span><br />\n<span style="color:rgb(29\, 33\, 41)\; font-family:system-ui\,-apple-system\,system-ui\,.sfnstext-regular\,sans-serif\; font-size:14px">This unique\, interactive class will enable you to better understand the realities of living with dementia. By taking a walk in their shoes you will be better equipped to communicate and care for your loved one.</span><br />\n<br />\n<span style="color:rgb(29\, 33\, 41)\; font-family:system-ui\,-apple-system\,system-ui\,.sfnstext-regular\,sans-serif\; font-size:14px">Admission is free\, but space is limited so RSVPs are required.</span><br />\n<br />\n<span style="color:rgb(29\, 33\, 41)\; font-family:system-ui\,-apple-system\,system-ui\,.sfnstext-regular\,sans-serif\; font-size:14px">RSVP to Cathy at 740-321-3330 or cathy.creekmore@homeinstead.com</span>
LOCATION:Home Instead Senior Care 1893 Columbus Road\, Granville\, OH 43023
UID:e.180.12762
SEQUENCE:3
DTSTAMP:20260422T102702Z
URL:http://business.granvilleoh.com/events/details/virtual-dementia-tour-08-29-2019-12762
END:VEVENT

END:VCALENDAR
