BEGIN:VCALENDAR
VERSION:2.0
PRODID:-//ChamberMaster//Event Calendar 2.0//EN
METHOD:PUBLISH
X-PUBLISHED-TTL:P3D
REFRESH-INTERVAL:P3D
CALSCALE:GREGORIAN
BEGIN:VEVENT
DTSTART:20181009T230000Z
DTEND:20181010T003000Z
X-MICROSOFT-CDO-ALLDAYEVENT:FALSE
SUMMARY:Volcanic Activity: What Really Happens During an Eruption
DESCRIPTION:We all have a picture in our head of volcanic eruptions\, but what actually happens before\, during\, and after an eruption? Dr. Erik Klemetti will highlight a number of famous eruptions including the 1912 eruption of Katmai in Alaska\, the 2010 eruption of Eyjafjallaj kull in Iceland\, and the 2018 eruption at Kilauea in Hawaii. Dr. Klemetti is an associate professor of Geosciences and a volcanologist at Denison University. He works on volcanoes all over the planet\, from Chile to New Zealand to the the Cascades of Oregon and California. He also writes for Discover Magazine. You can find him on Twitter (@Eruptionsblog).
X-ALT-DESC;FMTTYPE=text/html:We all have a picture in our head of volcanic eruptions\, but what actually happens before\, during\, and after an eruption? Dr. Erik Klemetti will highlight a number of famous eruptions including the 1912 eruption of Katmai in Alaska\, the 2010 eruption of Eyjafjallaj&ouml\;kull in Iceland\, and the 2018 eruption at Kilauea in Hawaii. Dr. Klemetti is an associate professor of Geosciences and a volcanologist at Denison University. He works on volcanoes all over the planet\, from Chile to New Zealand to the the Cascades of Oregon and California. He also writes for Discover Magazine. You can find him on Twitter (@Eruptionsblog).
LOCATION:Granville Public Library
UID:e.180.12132
SEQUENCE:3
DTSTAMP:20260419T210143Z
URL:http://business.granvilleoh.com/events/details/volcanic-activity-what-really-happens-during-an-eruption-12132
END:VEVENT

END:VCALENDAR
