BEGIN:VCALENDAR
VERSION:2.0
PRODID:-//ChamberMaster//Event Calendar 2.0//EN
METHOD:PUBLISH
X-PUBLISHED-TTL:P3D
REFRESH-INTERVAL:P3D
CALSCALE:GREGORIAN
BEGIN:VEVENT
DTSTART:20190726T220000Z
DTEND:20190727T000000Z
X-MICROSOFT-CDO-ALLDAYEVENT:FALSE
SUMMARY:Warp Speed: Jigsaw Puzzle Race
DESCRIPTION:Can your team complete a 1\,000 piece puzzle at warp speed? Make it so! Bring a team or join one at the event. Prizes! Rising 7th grade- Adult.
X-ALT-DESC;FMTTYPE=text/html:Can your team complete a 1\,000 piece puzzle at warp speed? Make it so! Bring a team or join one at the event. Prizes! Rising 7th grade- Adult.
LOCATION:Granville Public Library
UID:e.180.12745
SEQUENCE:3
DTSTAMP:20260422T085150Z
URL:http://business.granvilleoh.com/events/details/warp-speed-jigsaw-puzzle-race-12745
END:VEVENT

END:VCALENDAR
