BEGIN:VCALENDAR
VERSION:2.0
PRODID:-//ChamberMaster//Event Calendar 2.0//EN
METHOD:PUBLISH
X-PUBLISHED-TTL:P3D
REFRESH-INTERVAL:P3D
CALSCALE:GREGORIAN
BEGIN:VEVENT
DTSTART:20190530T160000Z
DTEND:20190530T180000Z
X-MICROSOFT-CDO-ALLDAYEVENT:FALSE
SUMMARY:We Have Lift Off: Summer Vacation
DESCRIPTION:Summer reading packets\, pizza\, and refreshments will be available on your way home from the last day of school. For kids in rising grades K-6.
X-ALT-DESC;FMTTYPE=text/html:Summer reading packets\, pizza\, and refreshments will be available on your way home from the last day of school. For kids in rising grades K-6.
LOCATION:Granville Public Library
UID:e.180.12637
SEQUENCE:3
DTSTAMP:20260420T064405Z
URL:http://business.granvilleoh.com/events/details/we-have-lift-off-summer-vacation-12637
END:VEVENT

END:VCALENDAR
