BEGIN:VCALENDAR
VERSION:2.0
PRODID:-//ChamberMaster//Event Calendar 2.0//EN
METHOD:PUBLISH
X-PUBLISHED-TTL:P3D
REFRESH-INTERVAL:P3D
CALSCALE:GREGORIAN
BEGIN:VEVENT
DTSTART:20190303T000000Z
DTEND:20190303T010000Z
X-MICROSOFT-CDO-ALLDAYEVENT:FALSE
SUMMARY:'We were\, We are\, We will'
DESCRIPTION:Denison University's Department of Dance presents senior research performances "We were\, We are\, We will" by Alex Rivera and Bridget Ryan.\n\n \nLimited seating.\n\nReservations: dance@denison.edu
X-ALT-DESC;FMTTYPE=text/html:<span style="background-color:transparent\; color:rgb(0\, 0\, 0)\; font-family:arial\; font-size:11pt">Denison University&rsquo\;s Department of Dance presents senior research performances &quot\;We were\, We are\, We will&quot\; by Alex Rivera and Bridget Ryan.</span><br />\n&nbsp\;\n<p><span style="background-color:transparent\; color:rgb(0\, 0\, 0)\; font-family:arial\; font-size:11pt">Limited seating.</span></p>\n\n<p><span style="background-color:transparent\; color:rgb(0\, 0\, 0)\; font-family:arial\; font-size:11pt">Reservations: dance@denison.edu</span></p>\n\n<div>&nbsp\;</div>\n
LOCATION:Denison University Doane Dance Building 231 West College Street
UID:e.180.12483
SEQUENCE:3
DTSTAMP:20260420T034911Z
URL:http://business.granvilleoh.com/events/details/we-were-we-are-we-will-03-02-2019-12483
END:VEVENT

END:VCALENDAR
