BEGIN:VCALENDAR
VERSION:2.0
PRODID:-//ChamberMaster//Event Calendar 2.0//EN
METHOD:PUBLISH
X-PUBLISHED-TTL:P3D
REFRESH-INTERVAL:P3D
CALSCALE:GREGORIAN
BEGIN:VEVENT
DTSTART:20180509T130000Z
DTEND:20180509T143000Z
X-MICROSOFT-CDO-ALLDAYEVENT:FALSE
SUMMARY:Welcome Wednesday at GCA
DESCRIPTION:Welcome Wednesday at Granville Christian Academy. May 9 from 9 to 10:30 am. Come by and tour campus\, meet key people\, secure enrollment information. We are now enrolling K   high school students for the 2018-2019 school year.
X-ALT-DESC;FMTTYPE=text/html:Welcome Wednesday at Granville Christian Academy. May 9 from 9 to 10:30 am. Come by and tour campus\, meet key people\, secure enrollment information. We are now enrolling K &ndash\; high school students for the 2018-2019 school year.
LOCATION:Granville Christian Academy 1820 Newark Granville Rd. Granville\, OH 43023
UID:e.180.11856
SEQUENCE:3
DTSTAMP:20260421T100618Z
URL:http://business.granvilleoh.com/events/details/welcome-wednesday-at-gca-11856
END:VEVENT

END:VCALENDAR
