BEGIN:VCALENDAR
VERSION:2.0
PRODID:-//ChamberMaster//Event Calendar 2.0//EN
METHOD:PUBLISH
X-PUBLISHED-TTL:P3D
REFRESH-INTERVAL:P3D
CALSCALE:GREGORIAN
BEGIN:VEVENT
DTSTART:20180411T130000Z
DTEND:20180411T143000Z
X-MICROSOFT-CDO-ALLDAYEVENT:FALSE
SUMMARY:Welcome Wednesdays
DESCRIPTION:Welcome Wednesdays is our Kindergarten through High School Open House Event. Runs from 9 to 10:30 am on Apr 11\, April 25 and May 9. GCA school tours are also available any day by appointment. During Welcome Wednesdays you will Tour the School\, Connect With Faculty and Staff\, Secure Admission Information.
X-ALT-DESC;FMTTYPE=text/html:Welcome Wednesdays is our Kindergarten through High School Open House Event. Runs from 9 to 10:30 am on Apr 11\, April 25 and May 9. GCA school tours are also available any day by appointment. During Welcome Wednesdays you will Tour the School\, Connect With Faculty and Staff\, Secure Admission Information.
LOCATION:Granville Christian Academy\, 1820 Newark Granville Rd.\, Granville
UID:e.180.11853
SEQUENCE:3
DTSTAMP:20260421T100619Z
URL:http://business.granvilleoh.com/events/details/welcome-wednesdays-11853
END:VEVENT

END:VCALENDAR
