BEGIN:VCALENDAR
VERSION:2.0
PRODID:-//ChamberMaster//Event Calendar 2.0//EN
METHOD:PUBLISH
X-PUBLISHED-TTL:P3D
REFRESH-INTERVAL:P3D
CALSCALE:GREGORIAN
BEGIN:VEVENT
DTSTART:20191017T230000Z
DTEND:20191018T000000Z
X-MICROSOFT-CDO-ALLDAYEVENT:FALSE
SUMMARY:What is Artificial Intelligence? with OSU professor Jim Davis
DESCRIPTION:Artificial Intelligence is no longer restricted to topics in Science Fiction and futuristic movies. Rather\, it is becoming commonplace in today's society. In this talk\, Prof. Davis will present an overview of the origins\, social & ethical issues\, and basic insights into Artificial Intelligence. Dr. Jim Davis is Professor of Computer Science & Engineering at Ohio State University\, where his teaching and research are in the areas of Artificial Intelligence and Computer Vision. He has appeared multiple times on the WOSU NPR series "All Sides with Ann Fisher" to discuss Artificial Intelligence.
X-ALT-DESC;FMTTYPE=text/html:Artificial Intelligence is no longer restricted to topics in Science Fiction and futuristic movies. Rather\, it is becoming commonplace in today&#39\;s society. In this talk\, Prof. Davis will present an overview of the origins\, social &amp\; ethical issues\, and basic insights into Artificial Intelligence. Dr. Jim Davis is Professor of Computer Science &amp\; Engineering at Ohio State University\, where his teaching and research are in the areas of Artificial Intelligence and Computer Vision. He has appeared multiple times on the WOSU NPR series &quot\;All Sides with Ann Fisher&quot\; to discuss Artificial Intelligence.
LOCATION:Granville Public Library
UID:e.180.12854
SEQUENCE:3
DTSTAMP:20260422T131233Z
URL:http://business.granvilleoh.com/events/details/what-is-artificial-intelligence-with-osu-professor-jim-davis-12854
END:VEVENT

END:VCALENDAR
