BEGIN:VCALENDAR
VERSION:2.0
PRODID:-//ChamberMaster//Event Calendar 2.0//EN
METHOD:PUBLISH
X-PUBLISHED-TTL:P3D
REFRESH-INTERVAL:P3D
CALSCALE:GREGORIAN
BEGIN:VEVENT
DTSTART:20190405T230000Z
DTEND:20190415T010000Z
X-MICROSOFT-CDO-ALLDAYEVENT:FALSE
SUMMARY:What's Up\, Doc? Bluegrass Musical Farce
DESCRIPTION:Join 25 youths as they present a Moliere medical comedy reboot of "Is There A Doctor In The House" called What's Up\, Doc? Three quack doctors try to help a young damsel in distress get her voice back. Slapstick comedy\, sight gags\, sure- fire jokes all complemented by a bluegrass score. You will definitely be laughing out loud!
X-ALT-DESC;FMTTYPE=text/html:Join 25 youths as they present a Moliere medical comedy reboot of &quot\;Is There A Doctor In The House&quot\; called What&#39\;s Up\, Doc? Three quack doctors try to help a young damsel in distress get her voice back. Slapstick comedy\, sight gags\, sure- fire jokes all complemented by a bluegrass score. You will definitely be laughing out loud!
LOCATION:Hullabaloo Performing Arts Theatre in the Indian Mound Mall
UID:e.180.12554
SEQUENCE:3
DTSTAMP:20260420T050632Z
URL:http://business.granvilleoh.com/events/details/what-s-up-doc-bluegrass-musical-farce-12554
END:VEVENT

END:VCALENDAR
