BEGIN:VCALENDAR
VERSION:2.0
PRODID:-//ChamberMaster//Event Calendar 2.0//EN
METHOD:PUBLISH
X-PUBLISHED-TTL:P3D
REFRESH-INTERVAL:P3D
CALSCALE:GREGORIAN
BEGIN:VEVENT
DTSTART:20180912T233000Z
DTEND:20180913T013000Z
X-MICROSOFT-CDO-ALLDAYEVENT:FALSE
SUMMARY:'Why the market (alone) won’t solve the problem of climate change'
DESCRIPTION:Denison University's Ronneberg Lecture Series welcomes Harvard professor Naomi Oreskes presenting "Why the market (alone) won't solve the problem of climate change."  Oreskes is a science historian with a focus on the earth and environmental sciences. She will discuss the process of doing science and its connection to the public's trust. She has a particular interest in understanding scientific consensus and dissent\, which has led to some of her most well-known work on climate change\, scientific consensus\, and public policy.
X-ALT-DESC;FMTTYPE=text/html:<p><span style="background-color:transparent\; color:rgb(0\, 0\, 0)\; font-family:arial\; font-size:11pt">Denison University&#39\;s Ronneberg Lecture Series welcomes Harvard professor Naomi Oreskes presenting &quot\;Why the market (alone) won&#39\;t solve the problem of climate change.&quot\;&nbsp\;&nbsp\;</span><span style="color:rgb(0\, 0\, 0)\; font-family:arial\; font-size:11pt">Oreskes is a science historian with a focus on the earth and environmental sciences. </span><span style="background-color:transparent\; color:rgb(0\, 0\, 0)\; font-family:arial\; font-size:11pt">She will discuss the process of doing science and its connection to the public&rsquo\;s trust. She has a particular interest in understanding scientific consensus and dissent\, which has led to some of her most well-known work on climate change\, scientific consensus\, and public policy.</span></p>\n\n<div>&nbsp\;</div>\n
LOCATION:Denison University Slayter Union Auditorium 200 Ridge Road
UID:e.180.12121
SEQUENCE:3
DTSTAMP:20260419T193250Z
URL:http://business.granvilleoh.com/events/details/why-the-market-alone-won-t-solve-the-problem-of-climate-change-12121
END:VEVENT

END:VCALENDAR
