BEGIN:VCALENDAR
VERSION:2.0
PRODID:-//ChamberMaster//Event Calendar 2.0//EN
METHOD:PUBLISH
X-PUBLISHED-TTL:P3D
REFRESH-INTERVAL:P3D
CALSCALE:GREGORIAN
BEGIN:VEVENT
DTSTART:20191215T013000Z
DTEND:20191215T023000Z
X-MICROSOFT-CDO-ALLDAYEVENT:FALSE
SUMMARY:'World of Dance'
DESCRIPTION:Denison University presents the second annual "World of Dance\," a dance showcase hosted by Denison student dance groups which celebrates the diversity of dance on Denison's campus.\nPrepare to take a journey and witness different cultures through the lens of dance. Dance groups range from Hip-Hop (IDM)\, Afro Beat (Afro Spice)\, and Latinx (Sazon)\, to K-Pop (DKDG) and Traditional Indian Dance (DISA).
X-ALT-DESC;FMTTYPE=text/html:<span style="background-color:transparent\; color:rgb(0\, 0\, 0)\; font-family:arial\; font-size:11pt">Denison University presents the second annual &quot\;World of Dance\,&rdquo\; a dance showcase hosted by Denison student dance groups which celebrates the diversity of dance on Denison&#39\;s campus.</span>\n<p><span style="background-color:transparent\; color:rgb(0\, 0\, 0)\; font-family:arial\; font-size:11pt">Prepare to take a journey and witness different cultures through the lens of dance. Dance groups range from Hip-Hop (IDM)\, Afro Beat (Afro Spice)\, and Latinx (Sazon)\, to K-Pop (DKDG) and Traditional Indian Dance (DISA).</span></p>\n\n<div>&nbsp\;</div>\n
LOCATION:Denison University Burke Recital Hall of the Michael D. Eisner Center for the Performing Arts 240 West Broadway
UID:e.180.14008
SEQUENCE:3
DTSTAMP:20260422T161102Z
URL:http://business.granvilleoh.com/events/details/world-of-dance-14008
END:VEVENT

END:VCALENDAR
