BEGIN:VCALENDAR
VERSION:2.0
PRODID:-//ChamberMaster//Event Calendar 2.0//EN
METHOD:PUBLISH
X-PUBLISHED-TTL:P3D
REFRESH-INTERVAL:P3D
CALSCALE:GREGORIAN
BEGIN:VEVENT
DTSTART:20190228T210000Z
DTEND:20190228T214500Z
X-MICROSOFT-CDO-ALLDAYEVENT:FALSE
SUMMARY:Writing Club
DESCRIPTION:Kids in grades 4-6 are invited to join the Writing Club which will be held on the last Thursday of each month. Each meeting will feature a different creative writing activity and time to share your work with other writers.
X-ALT-DESC;FMTTYPE=text/html:Kids in grades 4-6 are invited to join the Writing Club which will be held on the last Thursday of each month. Each meeting will feature a different creative writing activity and time to share your work with other writers.
LOCATION:Granville Public Library
UID:e.180.12437
SEQUENCE:3
DTSTAMP:20260420T022712Z
URL:http://business.granvilleoh.com/events/details/writing-club-02-28-2019-12437
END:VEVENT

END:VCALENDAR
