BEGIN:VCALENDAR
VERSION:2.0
PRODID:-//ChamberMaster//Event Calendar 2.0//EN
METHOD:PUBLISH
X-PUBLISHED-TTL:P3D
REFRESH-INTERVAL:P3D
CALSCALE:GREGORIAN
BEGIN:VEVENT
DTSTART:20190425T200000Z
DTEND:20190425T204500Z
X-MICROSOFT-CDO-ALLDAYEVENT:FALSE
SUMMARY:Writing Club
DESCRIPTION:Kids in grades 4-6 are invited to join the Writing Club which will be held on the last Thursday of each month. Each meeting will feature a different creative writing activity and time to share your work with other writers.
X-ALT-DESC;FMTTYPE=text/html:Kids in grades 4-6 are invited to join the Writing Club which will be held on the last Thursday of each month. Each meeting will feature a different creative writing activity and time to share your work with other writers.
LOCATION:Granville Public Library
UID:e.180.12564
SEQUENCE:3
DTSTAMP:20260420T050702Z
URL:http://business.granvilleoh.com/events/details/writing-club-04-25-2019-12564
END:VEVENT

END:VCALENDAR
