BEGIN:VCALENDAR
VERSION:2.0
PRODID:-//ChamberMaster//Event Calendar 2.0//EN
METHOD:PUBLISH
X-PUBLISHED-TTL:P3D
REFRESH-INTERVAL:P3D
CALSCALE:GREGORIAN
BEGIN:VEVENT
DTSTART:20190829T200000Z
DTEND:20190829T210000Z
X-MICROSOFT-CDO-ALLDAYEVENT:FALSE
SUMMARY:Writing Club
DESCRIPTION:Hang out and write. We'll start with a short warm-up exercise. The rest of the time is yours to write what you want. Paper\, pens\, pencils\, and snacks supplied. Grades 4 to 6
X-ALT-DESC;FMTTYPE=text/html:Hang out and write. We&#39\;ll start with a short warm-up exercise. The rest of the time is yours to write what you want. Paper\, pens\, pencils\, and snacks supplied. Grades 4 to 6
LOCATION:Granville Public Library
UID:e.180.12754
SEQUENCE:3
DTSTAMP:20260422T102725Z
URL:http://business.granvilleoh.com/events/details/writing-club-08-29-2019-12754
END:VEVENT

END:VCALENDAR
