BEGIN:VCALENDAR
VERSION:2.0
PRODID:-//ChamberMaster//Event Calendar 2.0//EN
METHOD:PUBLISH
X-PUBLISHED-TTL:P3D
REFRESH-INTERVAL:P3D
CALSCALE:GREGORIAN
BEGIN:VEVENT
DTSTART:20180621T190000Z
DTEND:20180621T203000Z
X-MICROSOFT-CDO-ALLDAYEVENT:FALSE
SUMMARY:You Too Can Write Songs!
DESCRIPTION:Join songwriter Joanie Calem to discover the easiest ways to write songs. You will explore music style\, melody\, rhythm\, and rhyming\, to create your own songs. Grades 4 to 6. Registration required. This workshop is limited to 20 participants.
X-ALT-DESC;FMTTYPE=text/html:Join songwriter Joanie Calem to discover the easiest ways to write songs. You will explore music style\, melody\, rhythm\, and rhyming\, to create your own songs. Grades 4 to 6. Registration required. This workshop is limited to 20 participants.
LOCATION:Granville Public Library
UID:e.180.12008
SEQUENCE:3
DTSTAMP:20260419T153214Z
URL:http://business.granvilleoh.com/events/details/you-too-can-write-songs-12008
END:VEVENT

END:VCALENDAR
