BEGIN:VCALENDAR
VERSION:2.0
PRODID:-//ChamberMaster//Event Calendar 2.0//EN
METHOD:PUBLISH
X-PUBLISHED-TTL:P3D
REFRESH-INTERVAL:P3D
CALSCALE:GREGORIAN
BEGIN:VEVENT
DTSTART:20201022T200000Z
DTEND:20201022T220000Z
X-MICROSOFT-CDO-ALLDAYEVENT:FALSE
SUMMARY:3D Printing: Adults
DESCRIPTION:Join us on Zoom to create a 3D printed air plant holder! This class is best taken on a home computer as we will be using TinkerCad to create holders and then the library will print them for you to pick up at a later time. Please register for this class at GranvilleLibrary.org/calendar/month
X-ALT-DESC;FMTTYPE=text/html:Join us on Zoom to create a 3D printed air plant holder! This class is best taken on a home computer as we will be using TinkerCad to create holders and then the library will print them for you to pick up at a later time. Please register for this class at GranvilleLibrary.org/calendar/month
LOCATION:Granville Library
UID:e.180.14642
SEQUENCE:3
DTSTAMP:20260422T043903Z
URL:https://business.granvilleoh.com/events/details/3d-printing-adults-14642
END:VEVENT

END:VCALENDAR
