BEGIN:VCALENDAR
VERSION:2.0
PRODID:-//ChamberMaster//Event Calendar 2.0//EN
METHOD:PUBLISH
X-PUBLISHED-TTL:P3D
REFRESH-INTERVAL:P3D
CALSCALE:GREGORIAN
BEGIN:VEVENT
DTSTART:20210111T210000Z
DTEND:20210111T230000Z
X-MICROSOFT-CDO-ALLDAYEVENT:FALSE
SUMMARY:3D Printing Class for Teens: Mobile AMP
DESCRIPTION:Try out Tinkercad and design an amplifier for any mobile device! This class is best taken on a home computer as we will be using Tinkercad to create this design and then the library will print them for you to pick up later. Also\, will need a ruler to measure our mobile device. Please register for this class - Limit 6 You will be emailed a Zoom link about an hour before the start of the program. Register at Granvillelibrary.org/calendar/month
X-ALT-DESC;FMTTYPE=text/html:Try out Tinkercad and design an amplifier for any mobile device! This class is best taken on a home computer as we will be using Tinkercad to create this design and then the library will print them for you to pick up later. Also\, will need a ruler to measure our mobile device. Please register for this class - Limit 6 You will be emailed a Zoom link about an hour before the start of the program. Register at Granvillelibrary.org/calendar/month
LOCATION:Granville Public Library via Zoom
UID:e.180.14702
SEQUENCE:3
DTSTAMP:20260422T004728Z
URL:https://business.granvilleoh.com/events/details/3d-printing-class-for-teens-mobile-amp-14702
END:VEVENT

END:VCALENDAR
