BEGIN:VCALENDAR
VERSION:2.0
PRODID:-//ChamberMaster//Event Calendar 2.0//EN
METHOD:PUBLISH
X-PUBLISHED-TTL:P3D
REFRESH-INTERVAL:P3D
CALSCALE:GREGORIAN
BEGIN:VEVENT
DTSTART:20211014T230000Z
DTEND:20211015T003000Z
X-MICROSOFT-CDO-ALLDAYEVENT:FALSE
SUMMARY:A Gentle Introduction to Bitcoin with Dr. Carvalho via Zoom
DESCRIPTION:Recent years have seen an explosion of interest in cryptocurrencies\, with a particular focus on Bitcoin. From MicroStrategy to Square to Tesla\, the corporate world is starting to consider Bitcoin as an alternative for their cash piles. In 2021\, El Salvador has added Bitcoin as an official currency of exchange. In this accessible talk\, Dr. Arthur Carvalho explains the inner workings of Bitcoin\, from its anonymous nature and the underlying know-your-customer and money-laundering issues to Bitcoin's proof-of-work consensus mechanism responsible for the often-criticized high-energy consumption. Besides learning about use cases\, participants will also have the opportunity to learn how to acquire bitcoins via centralized exchanges. Dr. Arthur Carvalho is the Dinesh & Ila Paliwal Innovation Chair and an Assistant Professor of Information Systems & Analytics at Farmer School of Business\, Miami University. Having developed one of the first blockchain courses at the undergraduate level in the U.S.\, Dr. Carvalho has led the blockchain-related educational endeavors at Miami University. He has published extensively on topics related to blockchain governance\, adoption\, and applications. Register with an email address to receive the Zoom link about an hour prior to the beginning of the talk. Register at GranvilleLibrary.org/calendar/month
X-ALT-DESC;FMTTYPE=text/html:Recent years have seen an explosion of interest in cryptocurrencies\, with a particular focus on Bitcoin. From MicroStrategy to Square to Tesla\, the corporate world is starting to consider Bitcoin as an alternative for their cash piles. In 2021\, El Salvador has added Bitcoin as an official currency of exchange. In this accessible talk\, Dr. Arthur Carvalho explains the inner workings of Bitcoin\, from its anonymous nature and the underlying know-your-customer and money-laundering issues to Bitcoin&rsquo\;s proof-of-work consensus mechanism responsible for the often-criticized high-energy consumption. Besides learning about use cases\, participants will also have the opportunity to learn how to acquire bitcoins via centralized exchanges. Dr. Arthur Carvalho is the Dinesh &amp\; Ila Paliwal Innovation Chair and an Assistant Professor of Information Systems &amp\; Analytics at Farmer School of Business\, Miami University. Having developed one of the first blockchain courses at the undergraduate level in the U.S.\, Dr. Carvalho has led the blockchain-related educational endeavors at Miami University. He has published extensively on topics related to blockchain governance\, adoption\, and applications. Register with an email address to receive the Zoom link about an hour prior to the beginning of the talk. Register at GranvilleLibrary.org/calendar/month
LOCATION:Granville Public Library via Zoom
UID:e.180.16082
SEQUENCE:3
DTSTAMP:20260421T125529Z
URL:https://business.granvilleoh.com/events/details/a-gentle-introduction-to-bitcoin-with-dr-carvalho-via-zoom-16082
END:VEVENT

END:VCALENDAR
