BEGIN:VCALENDAR
VERSION:2.0
PRODID:-//ChamberMaster//Event Calendar 2.0//EN
METHOD:PUBLISH
X-PUBLISHED-TTL:P3D
REFRESH-INTERVAL:P3D
CALSCALE:GREGORIAN
BEGIN:VEVENT
DTSTART:20210619T190000Z
DTEND:20210619T210000Z
X-MICROSOFT-CDO-ALLDAYEVENT:FALSE
SUMMARY:Adult 3D Print: Pet Tags on Zoom
DESCRIPTION:Thanks to the Friends of the Granville Public Library\, we have a new 3D printer that allows us to print in two colors. We will use this ability to print a one-sided pet tag in Tinkercad via Zoom. The library will print your design and contact you for pick-up. This class is best taken on a home computer as we will be using TinkerCad\, and you will be emailed the Zoom invite the day of the class. Registration Required for this adult program. Limited to 6 attendees. Register at GranvilleLibrary.org/calendar/month
X-ALT-DESC;FMTTYPE=text/html:Thanks to the Friends of the Granville Public Library\, we have a new 3D printer that allows us to print in two colors. We will use this ability to print a one-sided pet tag in Tinkercad via Zoom. The library will print your design and contact you for pick-up. This class is best taken on a home computer as we will be using TinkerCad\, and you will be emailed the Zoom invite the day of the class. Registration Required for this adult program. Limited to 6 attendees. Register at GranvilleLibrary.org/calendar/month
LOCATION:Granville Public Library via Zoom
UID:e.180.14812
SEQUENCE:3
DTSTAMP:20260421T202605Z
URL:https://business.granvilleoh.com/events/details/adult-3d-print-pet-tags-on-zoom-14812
END:VEVENT

END:VCALENDAR
