BEGIN:VCALENDAR
VERSION:2.0
PRODID:-//ChamberMaster//Event Calendar 2.0//EN
METHOD:PUBLISH
X-PUBLISHED-TTL:P3D
REFRESH-INTERVAL:P3D
CALSCALE:GREGORIAN
BEGIN:VEVENT
DTSTART:20211021T210000Z
DTEND:20211021T230000Z
X-MICROSOFT-CDO-ALLDAYEVENT:FALSE
SUMMARY:Adult 3D Print: Stamps
DESCRIPTION:We will be creating small stamps in TinkerCad and we will go over how to prep our project in Tinkercad so that two types of filament will be used and printed in our new dual-color 3D printer. Registration Required limited to 6 attendees. Register GranvilleLibrary.org/calendar/month
X-ALT-DESC;FMTTYPE=text/html:We will be creating small stamps in TinkerCad and we will go over how to prep our project in Tinkercad so that two types of filament will be used and printed in our new dual-color 3D printer. Registration Required limited to 6 attendees. Register GranvilleLibrary.org/calendar/month
LOCATION:Granville Public Library
UID:e.180.16096
SEQUENCE:3
DTSTAMP:20260421T125523Z
URL:https://business.granvilleoh.com/events/details/adult-3d-print-stamps-16096
END:VEVENT

END:VCALENDAR
