BEGIN:VCALENDAR
VERSION:2.0
PRODID:-//ChamberMaster//Event Calendar 2.0//EN
METHOD:PUBLISH
X-PUBLISHED-TTL:P3D
REFRESH-INTERVAL:P3D
CALSCALE:GREGORIAN
BEGIN:VEVENT
DTSTART:20201221T190000Z
DTEND:20201221T210000Z
X-MICROSOFT-CDO-ALLDAYEVENT:FALSE
SUMMARY:Aim for the Stars- Teen Macrame (Zoom)
DESCRIPTION:It's not rocket science! Create a cool macrame wall hanging on a stellar frame. You'll join us on Zoom to learn some macrame basics. Space is limited. Grades 7-12. Register to reserve your supply kit. You will receive an email when your kit is available for pick up. We'll meet on Zoom to macrame together. You will receive an email with the Zoom meeting link about an hour before the start of the program. Register at GranvilleLibrary.org/calendar/month.
X-ALT-DESC;FMTTYPE=text/html:It&#39\;s not rocket science! Create a cool macrame wall hanging on a stellar frame. You&#39\;ll join us on Zoom to learn some macrame basics. Space is limited. Grades 7-12. Register to reserve your supply kit. You will receive an email when your kit is available for pick up. We&#39\;ll meet on Zoom to macrame together. You will receive an email with the Zoom meeting link about an hour before the start of the program. Register at GranvilleLibrary.org/calendar/month.
LOCATION:Granville Public Library via Zoom
UID:e.180.14696
SEQUENCE:3
DTSTAMP:20260422T020406Z
URL:https://business.granvilleoh.com/events/details/aim-for-the-stars-teen-macrame-zoom-14696
END:VEVENT

END:VCALENDAR
