BEGIN:VCALENDAR
VERSION:2.0
PRODID:-//ChamberMaster//Event Calendar 2.0//EN
METHOD:PUBLISH
X-PUBLISHED-TTL:P3D
REFRESH-INTERVAL:P3D
CALSCALE:GREGORIAN
BEGIN:VEVENT
DTSTART:20200207T223000Z
DTEND:20200208T000000Z
X-MICROSOFT-CDO-ALLDAYEVENT:FALSE
SUMMARY:Alohomora! Harry Potter Escape Room
DESCRIPTION:Work with your house to solve the challenges! Will your team be the first to earn the House Cup? For teens in grades 7-12.
X-ALT-DESC;FMTTYPE=text/html:Work with your house to solve the challenges! Will your team be the first to earn the House Cup? For teens in grades 7-12.
LOCATION:Granville Public Library
UID:e.180.14039
SEQUENCE:3
DTSTAMP:20260422T155106Z
URL:https://business.granvilleoh.com/events/details/alohomora-harry-potter-escape-room-14039
END:VEVENT

END:VCALENDAR
