BEGIN:VCALENDAR
VERSION:2.0
PRODID:-//ChamberMaster//Event Calendar 2.0//EN
METHOD:PUBLISH
X-PUBLISHED-TTL:P3D
REFRESH-INTERVAL:P3D
CALSCALE:GREGORIAN
BEGIN:VEVENT
DTSTART:20210323T140000Z
DTEND:20210323T143000Z
X-MICROSOFT-CDO-ALLDAYEVENT:FALSE
SUMMARY:Alphabet Bingo on Zoom
DESCRIPTION:Little ones will practice recognizing letters as they fill out their cards. Registrants will be notified when B-I-N-G-O cards are available for pick-up. Register with an email address to receive a Zoom login about an hour before the program. Register at GranvilleLibrary.org/calendar/month Ages 3 to 5\, limited to 36 participants
X-ALT-DESC;FMTTYPE=text/html:Little ones will practice recognizing letters as they fill out their cards. Registrants will be notified when B-I-N-G-O cards are available for pick-up. Register with an email address to receive a Zoom login about an hour before the program. Register at GranvilleLibrary.org/calendar/month Ages 3 to 5\, limited to 36 participants
LOCATION:Granville Public Library via Zoom
UID:e.180.14760
SEQUENCE:3
DTSTAMP:20260421T220310Z
URL:https://business.granvilleoh.com/events/details/alphabet-bingo-on-zoom-14760
END:VEVENT

END:VCALENDAR
