BEGIN:VCALENDAR
VERSION:2.0
PRODID:-//ChamberMaster//Event Calendar 2.0//EN
METHOD:PUBLISH
X-PUBLISHED-TTL:P3D
REFRESH-INTERVAL:P3D
CALSCALE:GREGORIAN
BEGIN:VEVENT
DTSTART:20210310T220000Z
DTEND:20210310T230000Z
X-MICROSOFT-CDO-ALLDAYEVENT:FALSE
SUMMARY:Among Us Game Hour
DESCRIPTION:Teens\, join us for an hour of teamwork and imposters- in SPACE. Download the free version of the Among Us app on your phone or device. Register for the zoom session where we'll supply the game code. For grades 7-12. Register at GranvilleLibrary.org/calendar/month
X-ALT-DESC;FMTTYPE=text/html:Teens\, join us for an hour of teamwork and imposters- in SPACE. Download the free version of the Among Us app on your phone or device. Register for the zoom session where we&#39\;ll supply the game code. For grades 7-12. Register at GranvilleLibrary.org/calendar/month
LOCATION:Granville Public Library via Zoom
UID:e.180.14751
SEQUENCE:3
DTSTAMP:20260421T220312Z
URL:https://business.granvilleoh.com/events/details/among-us-game-hour-03-10-2021-14751
END:VEVENT

END:VCALENDAR
