BEGIN:VCALENDAR
VERSION:2.0
PRODID:-//ChamberMaster//Event Calendar 2.0//EN
METHOD:PUBLISH
X-PUBLISHED-TTL:P3D
REFRESH-INTERVAL:P3D
CALSCALE:GREGORIAN
BEGIN:VEVENT
DTSTART:20210609T170000Z
DTEND:20210609T180000Z
X-MICROSOFT-CDO-ALLDAYEVENT:FALSE
SUMMARY:Among Us Game Hour on Zoom
DESCRIPTION:Teens\, join us for an hour of teamwork and imposters- in SPACE. Download the free version of the Among Us app on your phone or device. Register for the zoom session where we'll supply the game code. For grades 7-12. Register at GranvilleLIbrary.org/calendar/month
X-ALT-DESC;FMTTYPE=text/html:Teens\, join us for an hour of teamwork and imposters- in SPACE. Download the free version of the Among Us app on your phone or device. Register for the zoom session where we&#39\;ll supply the game code. For grades 7-12. Register at GranvilleLIbrary.org/calendar/month
LOCATION:Granville Public Library via Zoom
UID:e.180.14796
SEQUENCE:3
DTSTAMP:20260421T175230Z
URL:https://business.granvilleoh.com/events/details/among-us-game-hour-on-zoom-14796
END:VEVENT

END:VCALENDAR
