BEGIN:VCALENDAR
VERSION:2.0
PRODID:-//ChamberMaster//Event Calendar 2.0//EN
METHOD:PUBLISH
X-PUBLISHED-TTL:P3D
REFRESH-INTERVAL:P3D
CALSCALE:GREGORIAN
BEGIN:VEVENT
DTSTART:20201111T210000Z
DTEND:20201111T220000Z
X-MICROSOFT-CDO-ALLDAYEVENT:FALSE
SUMMARY:Among Us Game Hour on Zoom (Teens)
DESCRIPTION:Teens\, join us for an hour of teamwork and imposters- in SPACE. Download the free version of the Among Us app on your phone or device. Register for the Zoom session where we'll supply the game code. You will receive an email to the Zoom meeting about an hour before the start of the program. For grades 7-12. Register at GranvilleLibrary.org/calendar/month
X-ALT-DESC;FMTTYPE=text/html:Teens\, join us for an hour of teamwork and imposters- in SPACE. Download the free version of the Among Us app on your phone or device. Register for the Zoom session where we&#39\;ll supply the game code. You will receive an email to the Zoom meeting about an hour before the start of the program. For grades 7-12. Register at GranvilleLibrary.org/calendar/month
LOCATION:Granville Public Library via Zoom
UID:e.180.14666
SEQUENCE:3
DTSTAMP:20260422T033205Z
URL:https://business.granvilleoh.com/events/details/among-us-game-hour-on-zoom-teens-14666
END:VEVENT

END:VCALENDAR
